BEGIN:VCALENDAR
VERSION:2.0
PRODID:-//North Star Health - ECPv6.15.20//NONSGML v1.0//EN
CALSCALE:GREGORIAN
METHOD:PUBLISH
X-ORIGINAL-URL:https://www.northstarfqhc.org
X-WR-CALDESC:Events for North Star Health
REFRESH-INTERVAL;VALUE=DURATION:PT1H
X-Robots-Tag:noindex
X-PUBLISHED-TTL:PT1H
BEGIN:VTIMEZONE
TZID:America/New_York
BEGIN:DAYLIGHT
TZOFFSETFROM:-0500
TZOFFSETTO:-0400
TZNAME:EDT
DTSTART:20240310T070000
END:DAYLIGHT
BEGIN:STANDARD
TZOFFSETFROM:-0400
TZOFFSETTO:-0500
TZNAME:EST
DTSTART:20241103T060000
END:STANDARD
BEGIN:DAYLIGHT
TZOFFSETFROM:-0500
TZOFFSETTO:-0400
TZNAME:EDT
DTSTART:20250309T070000
END:DAYLIGHT
BEGIN:STANDARD
TZOFFSETFROM:-0400
TZOFFSETTO:-0500
TZNAME:EST
DTSTART:20251102T060000
END:STANDARD
BEGIN:DAYLIGHT
TZOFFSETFROM:-0500
TZOFFSETTO:-0400
TZNAME:EDT
DTSTART:20260308T070000
END:DAYLIGHT
BEGIN:STANDARD
TZOFFSETFROM:-0400
TZOFFSETTO:-0500
TZNAME:EST
DTSTART:20261101T060000
END:STANDARD
END:VTIMEZONE
BEGIN:VEVENT
DTSTART;TZID=America/New_York:20250604T130000
DTEND;TZID=America/New_York:20250604T140000
DTSTAMP:20260420T175823
CREATED:20240606T185600Z
LAST-MODIFIED:20240606T193621Z
UID:10000352-1749042000-1749045600@www.northstarfqhc.org
SUMMARY:Type 2 Diabetes Prevention Program Series
DESCRIPTION:1 in 3 American adults have pre-diabetes. That’s 86 Million people! 90% don’t know they have pre-diabetes. You can help prevent it from becoming type 2 diabetes by joining this class. \nThis class provides: \n\n     -Weekly (private) weigh-ins\n     -Setting goals by tracking exercise and meals\n     -Strategies for healthy eating on a budget\n     -Tools to help with stress reduction\n     -Ideas for behavior modification\n     -Time with a trained lifestyle coach\n\nWeekly: August 7 – October 23\nBi-monthly: November 6 – February 19\, 2025\nMonthly: March 5. 2025 – July 2\, 2025\n6:30pm-7:30pm
URL:https://www.northstarfqhc.org/event/type-2-diabetes-prevention-program-series-2/2025-06-04/
LOCATION:Zoom
CATEGORIES:Classes
ATTACH;FMTTYPE=image/png:https://www.northstarfqhc.org/wp-content/uploads/2024/03/Prediabetes-Image-1.png
ORGANIZER;CN="Sarah Doyle":MAILTO:sdoyle@northstarfqhc.org
END:VEVENT
END:VCALENDAR